BEGIN:VCALENDAR
VERSION:2.0
METHOD:PUBLISH
PRODID:-//Agenda.ad//NONSGML v1.0//EN
BEGIN:VEVENT
CLASS:PUBLIC
UID:8e7a531f9b84c0e3a0df54da364bbde9@agenda.ad
DTSTAMP:20260422T043140Z
DTSTART:20190205T230000Z
DTEND:20190205T230000Z
SUMMARY:<strong>'The Guilty'</strong>&nbsp;-&nbsp;Dinamarca 2018
DESCRIPTION:Cine Club de les Valls\n\nMés informació\nhttps://www.agen
 da.ad/activitat/andorra-la-vella/cinema/the-guilty - dinam
 arca-2018\n\n\nOrganitza\nCine Club de les Valls
LOCATION:Centre Cultural La Llacuna
SEQUENCE:0
TRANSP:OPAQUE
X-ALT-DESC;FMTTYPE=text/html:<!DOCTYPE HTML PUBLIC "-//W3C//DTD HTML 3.2//EN"><HTML><HEAD
 ><TITLE></TITLE></HEAD><BODY><FONT FACE="Arial" SIZE=2>Cine 
 Club de les Valls<br /><br /><br/><br/><b>Més informació</
 b><br/><a href="https://www.agenda.ad/activitat/andorra-la-v
 ella/cinema/the-guilty - dinamarca-2018">https://www.agend
 a.ad/activitat/andorra-la-vella/cinema/the-guilty - dinama
 rca-2018</a><br/><br/><br/><b>Organitza</b><br/>Cine Club de
  les Valls</FONT></BODY></HTML>
END:VEVENT
END:VCALENDAR